BEGIN:VCALENDAR
VERSION:2.0
PRODID:-//Tukios.com/
BEGIN:VEVENT
UID:5411d20c-51db-450f-9dff-4455f17317f1@www.caseyfunerals.com
DTSTAMP:20260425T181654Z
DTSTART:20260429T140000Z
DTEND:20260429T150000Z
SUMMARY:Funeral Service
DESCRIPTION:Burial to follow at Calvary Cemetery
URL:https://www.caseyfunerals.com/obituaries/richard-lyng
LOCATION:Our Lady of Loreto 12 Ardsley Street  Waterbury CT 06708
GEO:41.5718288;-73.0770241
END:VEVENT
END:VCALENDAR