BEGIN:VCALENDAR
VERSION:2.0
PRODID:-//Tukios.com/
BEGIN:VEVENT
UID:7f1bb084-d7cc-418c-a463-410dc74a2c11@www.caseyfunerals.com
DTSTAMP:20260422T001416Z
DTSTART:20260421T200000Z
DTEND:20260422T000000Z
SUMMARY:Public Viewing
DESCRIPTION:
URL:https://www.caseyfunerals.com/obituaries/milagros-rivera
LOCATION:Casey's Eastside Memorial Funeral Home & Cremation Care 1987 
	East Main Street  Waterbury CT 06705
GEO:41.5448144;-73.008632
END:VEVENT
END:VCALENDAR