BEGIN:VCALENDAR
VERSION:2.0
PRODID:-//Tukios.com/
BEGIN:VEVENT
UID:7fe86bd7-29a9-488e-92a0-1c366d87357b@www.caseyfunerals.com
DTSTAMP:20260420T175904Z
DTSTART:20260427T160000Z
DTEND:20260427T170000Z
SUMMARY:Memorial Service
DESCRIPTION:
URL:https://www.caseyfunerals.com/obituaries/keith-hicks
LOCATION: 1987 East Main Street  Waterbury CT 06705
GEO:41.544882;-73.008742
END:VEVENT
END:VCALENDAR