BEGIN:VCALENDAR
VERSION:2.0
PRODID:-//Tukios.com/
BEGIN:VEVENT
UID:5b7ae0e6-4c3a-4527-a826-4a10431fffa6@www.caseyfunerals.com
DTSTAMP:20260420T175715Z
DTSTART:20260427T150000Z
DTEND:20260427T160000Z
SUMMARY:Public Viewing
DESCRIPTION:
URL:https://www.caseyfunerals.com/obituaries/keith-hicks
LOCATION:Casey's Eastside Memorial Funeral Home and Cremation Care of 
	Waterbury 1987 E Main St  Waterbury CT 06705
GEO:41.5448144;-73.008632
END:VEVENT
END:VCALENDAR